BEGIN:VCALENDAR
PRODID:-//PUBBLE//agenda//NL
VERSION:2.0
METHOD:PUBLISH
BEGIN:VEVENT
DTSTART:20260506T080000Z
DTEND:20260506T093000Z
DTSTAMP:20260422T024757Z
UID:0231b9fc-bad3-4d1c-a078-d894041a3877
CREATED:20260422T024757Z
NAME:Ontspannen een dagje eropuit met het openbaar vervoer dedrontenaar.nl
X-WR-CALNAME:Ontspannen een dagje eropuit met het openbaar vervoer
X-ALT-DESC;FMTTYPE=text/html:<a href='/agenda/2026/5/6/ontspannen-een-dagje-eropuit-met-het-openbaar-vervoer-360873'>/agenda/2026/5/6/ontspannen-een-dagje-eropuit-met-het-openbaar-vervoer-360873</a> || <p>Zin om eropuit te gaan, maar nog onzeker over reizen met het openbaar vervoer? Het inloopspreekuur biedt duidelijke informatie en praktische ondersteuning. Kijk voor meer informatie op <a href="//www.ervaarhetov.nl/ov-ambassadeur/">www.ervaarhetov.nl/ov-ambassadeur/</a></p><p>Telefonisch spreekuur</p><p>Liever telefonisch advies? Bel dagelijks met een OV-ambassadeur tijdens het telefonisch spreekuur. Zij zijn bereikbaar op: 038 – 303 70 10.</p><p>Maandag- t/m vrijdagochtend van 10.00 tot 12.00 uur&nbsp;</p><p>Dinsdag- en donderdagmiddag van 13.30 tot 15.00 uur  &nbsp;</p>
DESCRIPTION:<a href='/agenda/2026/5/6/ontspannen-een-dagje-eropuit-met-het-openbaar-vervoer-360873'>/agenda/2026/5/6/ontspannen-een-dagje-eropuit-met-het-openbaar-vervoer-360873</a> || <p>Zin om eropuit te gaan, maar nog onzeker over reizen met het openbaar vervoer? Het inloopspreekuur biedt duidelijke informatie en praktische ondersteuning. Kijk voor meer informatie op <a href="//www.ervaarhetov.nl/ov-ambassadeur/">www.ervaarhetov.nl/ov-ambassadeur/</a></p><p>Telefonisch spreekuur</p><p>Liever telefonisch advies? Bel dagelijks met een OV-ambassadeur tijdens het telefonisch spreekuur. Zij zijn bereikbaar op: 038 – 303 70 10.</p><p>Maandag- t/m vrijdagochtend van 10.00 tot 12.00 uur&nbsp;</p><p>Dinsdag- en donderdagmiddag van 13.30 tot 15.00 uur  &nbsp;</p>
LAST-MODIFIED:20260422T024757Z
LOCATION: FlevoMeer Bibliotheek |   Dronten
SEQUENCE:0
STATUS:CONFIRMED
SUMMARY:Ontspannen een dagje eropuit met het openbaar vervoer
TRANSP:OPAQUE
END:VEVENT
END:VCALENDAR
